BEGIN:VCALENDAR
VERSION:2.0
PRODID:-//Camp at Cannon Hill - ECPv6.15.20//NONSGML v1.0//EN
CALSCALE:GREGORIAN
METHOD:PUBLISH
X-WR-CALNAME:Camp at Cannon Hill
X-ORIGINAL-URL:https://campatcannonhill.net
X-WR-CALDESC:Events for Camp at Cannon Hill
REFRESH-INTERVAL;VALUE=DURATION:PT1H
X-Robots-Tag:noindex
X-PUBLISHED-TTL:PT1H
BEGIN:VTIMEZONE
TZID:America/New_York
BEGIN:DAYLIGHT
TZOFFSETFROM:-0500
TZOFFSETTO:-0400
TZNAME:EDT
DTSTART:20250309T070000
END:DAYLIGHT
BEGIN:STANDARD
TZOFFSETFROM:-0400
TZOFFSETTO:-0500
TZNAME:EST
DTSTART:20251102T060000
END:STANDARD
BEGIN:DAYLIGHT
TZOFFSETFROM:-0500
TZOFFSETTO:-0400
TZNAME:EDT
DTSTART:20260308T070000
END:DAYLIGHT
BEGIN:STANDARD
TZOFFSETFROM:-0400
TZOFFSETTO:-0500
TZNAME:EST
DTSTART:20261101T060000
END:STANDARD
BEGIN:DAYLIGHT
TZOFFSETFROM:-0500
TZOFFSETTO:-0400
TZNAME:EDT
DTSTART:20270314T070000
END:DAYLIGHT
BEGIN:STANDARD
TZOFFSETFROM:-0400
TZOFFSETTO:-0500
TZNAME:EST
DTSTART:20271107T060000
END:STANDARD
END:VTIMEZONE
BEGIN:VEVENT
DTSTART;TZID=America/New_York:20260129T190000
DTEND;TZID=America/New_York:20260129T210000
DTSTAMP:20260423T110022
CREATED:20210307T150522Z
LAST-MODIFIED:20210307T150522Z
UID:10004874-1769713200-1769720400@campatcannonhill.net
SUMMARY:Biker Church Service
DESCRIPTION:
URL:https://campatcannonhill.net/event/biker-church-service-2025-02-27/
LOCATION:Camp at Cannon Hill\, 482 Englesville Road\, Boyertown\, PA\, 19512\, United States
CATEGORIES:Worship Service
GEO:40.3236198;-75.6411799
X-APPLE-STRUCTURED-LOCATION;VALUE=URI;X-ADDRESS=Camp at Cannon Hill 482 Englesville Road Boyertown PA 19512 United States;X-APPLE-RADIUS=500;X-TITLE=482 Englesville Road:geo:-75.6411799,40.3236198
END:VEVENT
BEGIN:VEVENT
DTSTART;TZID=America/New_York:20260129T190000
DTEND;TZID=America/New_York:20260129T210000
DTSTAMP:20260423T110022
CREATED:20210307T150522Z
LAST-MODIFIED:20210307T150522Z
UID:10005759-1769713200-1769720400@campatcannonhill.net
SUMMARY:Biker Church Service
DESCRIPTION:
URL:https://campatcannonhill.net/event/biker-church-service-2025-04-03/
LOCATION:Camp at Cannon Hill\, 482 Englesville Road\, Boyertown\, PA\, 19512\, United States
CATEGORIES:Worship Service
GEO:40.3236198;-75.6411799
X-APPLE-STRUCTURED-LOCATION;VALUE=URI;X-ADDRESS=Camp at Cannon Hill 482 Englesville Road Boyertown PA 19512 United States;X-APPLE-RADIUS=500;X-TITLE=482 Englesville Road:geo:-75.6411799,40.3236198
END:VEVENT
BEGIN:VEVENT
DTSTART;TZID=America/New_York:20260129T190000
DTEND;TZID=America/New_York:20260129T210000
DTSTAMP:20260423T110022
CREATED:20210307T150522Z
LAST-MODIFIED:20210307T150522Z
UID:10006106-1769713200-1769720400@campatcannonhill.net
SUMMARY:Biker Church Service
DESCRIPTION:
URL:https://campatcannonhill.net/event/biker-church-service-2025-04-17/
LOCATION:Camp at Cannon Hill\, 482 Englesville Road\, Boyertown\, PA\, 19512\, United States
CATEGORIES:Worship Service
GEO:40.3236198;-75.6411799
X-APPLE-STRUCTURED-LOCATION;VALUE=URI;X-ADDRESS=Camp at Cannon Hill 482 Englesville Road Boyertown PA 19512 United States;X-APPLE-RADIUS=500;X-TITLE=482 Englesville Road:geo:-75.6411799,40.3236198
END:VEVENT
BEGIN:VEVENT
DTSTART;TZID=America/New_York:20260129T190000
DTEND;TZID=America/New_York:20260129T210000
DTSTAMP:20260423T110022
CREATED:20210307T150522Z
LAST-MODIFIED:20210307T150522Z
UID:10007618-1769713200-1769720400@campatcannonhill.net
SUMMARY:Biker Church Service
DESCRIPTION:
URL:https://campatcannonhill.net/event/biker-church-service-2025-06-19/
LOCATION:Camp at Cannon Hill\, 482 Englesville Road\, Boyertown\, PA\, 19512\, United States
CATEGORIES:Worship Service
GEO:40.3236198;-75.6411799
X-APPLE-STRUCTURED-LOCATION;VALUE=URI;X-ADDRESS=Camp at Cannon Hill 482 Englesville Road Boyertown PA 19512 United States;X-APPLE-RADIUS=500;X-TITLE=482 Englesville Road:geo:-75.6411799,40.3236198
END:VEVENT
BEGIN:VEVENT
DTSTART;TZID=America/New_York:20260129T190000
DTEND;TZID=America/New_York:20260129T210000
DTSTAMP:20260423T110022
CREATED:20210307T150522Z
LAST-MODIFIED:20210307T150522Z
UID:10007943-1769713200-1769720400@campatcannonhill.net
SUMMARY:Biker Church Service
DESCRIPTION:
URL:https://campatcannonhill.net/event/biker-church-service-2025-07-03/
LOCATION:Camp at Cannon Hill\, 482 Englesville Road\, Boyertown\, PA\, 19512\, United States
CATEGORIES:Worship Service
GEO:40.3236198;-75.6411799
X-APPLE-STRUCTURED-LOCATION;VALUE=URI;X-ADDRESS=Camp at Cannon Hill 482 Englesville Road Boyertown PA 19512 United States;X-APPLE-RADIUS=500;X-TITLE=482 Englesville Road:geo:-75.6411799,40.3236198
END:VEVENT
BEGIN:VEVENT
DTSTART;TZID=America/New_York:20260129T190000
DTEND;TZID=America/New_York:20260129T210000
DTSTAMP:20260423T110022
CREATED:20210307T150522Z
LAST-MODIFIED:20210307T150522Z
UID:10009200-1769713200-1769720400@campatcannonhill.net
SUMMARY:Biker Church Service
DESCRIPTION:
URL:https://campatcannonhill.net/event/biker-church-service-2025-08-07/
LOCATION:Camp at Cannon Hill\, 482 Englesville Road\, Boyertown\, PA\, 19512\, United States
CATEGORIES:Worship Service
GEO:40.3236198;-75.6411799
X-APPLE-STRUCTURED-LOCATION;VALUE=URI;X-ADDRESS=Camp at Cannon Hill 482 Englesville Road Boyertown PA 19512 United States;X-APPLE-RADIUS=500;X-TITLE=482 Englesville Road:geo:-75.6411799,40.3236198
END:VEVENT
BEGIN:VEVENT
DTSTART;TZID=America/New_York:20260129T190000
DTEND;TZID=America/New_York:20260129T210000
DTSTAMP:20260423T110022
CREATED:20210307T150522Z
LAST-MODIFIED:20210307T150522Z
UID:10009548-1769713200-1769720400@campatcannonhill.net
SUMMARY:Biker Church Service
DESCRIPTION:
URL:https://campatcannonhill.net/event/biker-church-service-2025-08-21/
LOCATION:Camp at Cannon Hill\, 482 Englesville Road\, Boyertown\, PA\, 19512\, United States
CATEGORIES:Worship Service
GEO:40.3236198;-75.6411799
X-APPLE-STRUCTURED-LOCATION;VALUE=URI;X-ADDRESS=Camp at Cannon Hill 482 Englesville Road Boyertown PA 19512 United States;X-APPLE-RADIUS=500;X-TITLE=482 Englesville Road:geo:-75.6411799,40.3236198
END:VEVENT
BEGIN:VEVENT
DTSTART;TZID=America/New_York:20260129T190000
DTEND;TZID=America/New_York:20260129T210000
DTSTAMP:20260423T110022
CREATED:20210307T150522Z
LAST-MODIFIED:20210307T150522Z
UID:10009860-1769713200-1769720400@campatcannonhill.net
SUMMARY:Biker Church Service
DESCRIPTION:
URL:https://campatcannonhill.net/event/biker-church-service-2025-09-04/
LOCATION:Camp at Cannon Hill\, 482 Englesville Road\, Boyertown\, PA\, 19512\, United States
CATEGORIES:Worship Service
GEO:40.3236198;-75.6411799
X-APPLE-STRUCTURED-LOCATION;VALUE=URI;X-ADDRESS=Camp at Cannon Hill 482 Englesville Road Boyertown PA 19512 United States;X-APPLE-RADIUS=500;X-TITLE=482 Englesville Road:geo:-75.6411799,40.3236198
END:VEVENT
BEGIN:VEVENT
DTSTART;TZID=America/New_York:20260129T190000
DTEND;TZID=America/New_York:20260129T210000
DTSTAMP:20260423T110022
CREATED:20210307T150522Z
LAST-MODIFIED:20210307T150522Z
UID:10010172-1769713200-1769720400@campatcannonhill.net
SUMMARY:Biker Church Service
DESCRIPTION:
URL:https://campatcannonhill.net/event/biker-church-service-2025-09-18/
LOCATION:Camp at Cannon Hill\, 482 Englesville Road\, Boyertown\, PA\, 19512\, United States
CATEGORIES:Worship Service
GEO:40.3236198;-75.6411799
X-APPLE-STRUCTURED-LOCATION;VALUE=URI;X-ADDRESS=Camp at Cannon Hill 482 Englesville Road Boyertown PA 19512 United States;X-APPLE-RADIUS=500;X-TITLE=482 Englesville Road:geo:-75.6411799,40.3236198
END:VEVENT
BEGIN:VEVENT
DTSTART;TZID=America/New_York:20260129T190000
DTEND;TZID=America/New_York:20260129T210000
DTSTAMP:20260423T110022
CREATED:20210307T150522Z
LAST-MODIFIED:20210307T150522Z
UID:10011025-1769713200-1769720400@campatcannonhill.net
SUMMARY:Biker Church Service
DESCRIPTION:
URL:https://campatcannonhill.net/event/biker-church-service-2025-10-23/
LOCATION:Camp at Cannon Hill\, 482 Englesville Road\, Boyertown\, PA\, 19512\, United States
CATEGORIES:Worship Service
GEO:40.3236198;-75.6411799
X-APPLE-STRUCTURED-LOCATION;VALUE=URI;X-ADDRESS=Camp at Cannon Hill 482 Englesville Road Boyertown PA 19512 United States;X-APPLE-RADIUS=500;X-TITLE=482 Englesville Road:geo:-75.6411799,40.3236198
END:VEVENT
BEGIN:VEVENT
DTSTART;TZID=America/New_York:20260129T190000
DTEND;TZID=America/New_York:20260129T210000
DTSTAMP:20260423T110022
CREATED:20210307T150522Z
LAST-MODIFIED:20210307T150522Z
UID:10012814-1769713200-1769720400@campatcannonhill.net
SUMMARY:Biker Church Service
DESCRIPTION:
URL:https://campatcannonhill.net/event/biker-church-service-2026-01-08/
LOCATION:Camp at Cannon Hill\, 482 Englesville Road\, Boyertown\, PA\, 19512\, United States
CATEGORIES:Worship Service
GEO:40.3236198;-75.6411799
X-APPLE-STRUCTURED-LOCATION;VALUE=URI;X-ADDRESS=Camp at Cannon Hill 482 Englesville Road Boyertown PA 19512 United States;X-APPLE-RADIUS=500;X-TITLE=482 Englesville Road:geo:-75.6411799,40.3236198
END:VEVENT
BEGIN:VEVENT
DTSTART;TZID=America/New_York:20260129T190000
DTEND;TZID=America/New_York:20260129T210000
DTSTAMP:20260423T110022
CREATED:20210307T150522Z
LAST-MODIFIED:20210307T150522Z
UID:10005231-1769713200-1769720400@campatcannonhill.net
SUMMARY:Biker Church Service
DESCRIPTION:
URL:https://campatcannonhill.net/event/biker-church-service-2025-03-13/
LOCATION:Camp at Cannon Hill\, 482 Englesville Road\, Boyertown\, PA\, 19512\, United States
CATEGORIES:Worship Service
GEO:40.3236198;-75.6411799
X-APPLE-STRUCTURED-LOCATION;VALUE=URI;X-ADDRESS=Camp at Cannon Hill 482 Englesville Road Boyertown PA 19512 United States;X-APPLE-RADIUS=500;X-TITLE=482 Englesville Road:geo:-75.6411799,40.3236198
END:VEVENT
BEGIN:VEVENT
DTSTART;TZID=America/New_York:20260129T190000
DTEND;TZID=America/New_York:20260129T210000
DTSTAMP:20260423T110022
CREATED:20210307T150522Z
LAST-MODIFIED:20210307T150522Z
UID:10006449-1769713200-1769720400@campatcannonhill.net
SUMMARY:Biker Church Service
DESCRIPTION:
URL:https://campatcannonhill.net/event/biker-church-service-2025-05-01/
LOCATION:Camp at Cannon Hill\, 482 Englesville Road\, Boyertown\, PA\, 19512\, United States
CATEGORIES:Worship Service
GEO:40.3236198;-75.6411799
X-APPLE-STRUCTURED-LOCATION;VALUE=URI;X-ADDRESS=Camp at Cannon Hill 482 Englesville Road Boyertown PA 19512 United States;X-APPLE-RADIUS=500;X-TITLE=482 Englesville Road:geo:-75.6411799,40.3236198
END:VEVENT
BEGIN:VEVENT
DTSTART;TZID=America/New_York:20260129T190000
DTEND;TZID=America/New_York:20260129T210000
DTSTAMP:20260423T110022
CREATED:20210307T150522Z
LAST-MODIFIED:20210307T150522Z
UID:10006788-1769713200-1769720400@campatcannonhill.net
SUMMARY:Biker Church Service
DESCRIPTION:
URL:https://campatcannonhill.net/event/biker-church-service-2025-05-15/
LOCATION:Camp at Cannon Hill\, 482 Englesville Road\, Boyertown\, PA\, 19512\, United States
CATEGORIES:Worship Service
GEO:40.3236198;-75.6411799
X-APPLE-STRUCTURED-LOCATION;VALUE=URI;X-ADDRESS=Camp at Cannon Hill 482 Englesville Road Boyertown PA 19512 United States;X-APPLE-RADIUS=500;X-TITLE=482 Englesville Road:geo:-75.6411799,40.3236198
END:VEVENT
BEGIN:VEVENT
DTSTART;TZID=America/New_York:20260129T190000
DTEND;TZID=America/New_York:20260129T210000
DTSTAMP:20260423T110022
CREATED:20210307T150522Z
LAST-MODIFIED:20210307T150522Z
UID:10007123-1769713200-1769720400@campatcannonhill.net
SUMMARY:Biker Church Service
DESCRIPTION:
URL:https://campatcannonhill.net/event/biker-church-service-2025-05-29/
LOCATION:Camp at Cannon Hill\, 482 Englesville Road\, Boyertown\, PA\, 19512\, United States
CATEGORIES:Worship Service
GEO:40.3236198;-75.6411799
X-APPLE-STRUCTURED-LOCATION;VALUE=URI;X-ADDRESS=Camp at Cannon Hill 482 Englesville Road Boyertown PA 19512 United States;X-APPLE-RADIUS=500;X-TITLE=482 Englesville Road:geo:-75.6411799,40.3236198
END:VEVENT
BEGIN:VEVENT
DTSTART;TZID=America/New_York:20260129T190000
DTEND;TZID=America/New_York:20260129T210000
DTSTAMP:20260423T110022
CREATED:20210307T150522Z
LAST-MODIFIED:20210307T150522Z
UID:10008264-1769713200-1769720400@campatcannonhill.net
SUMMARY:Biker Church Service
DESCRIPTION:
URL:https://campatcannonhill.net/event/biker-church-service-2025-07-17/
LOCATION:Camp at Cannon Hill\, 482 Englesville Road\, Boyertown\, PA\, 19512\, United States
CATEGORIES:Worship Service
GEO:40.3236198;-75.6411799
X-APPLE-STRUCTURED-LOCATION;VALUE=URI;X-ADDRESS=Camp at Cannon Hill 482 Englesville Road Boyertown PA 19512 United States;X-APPLE-RADIUS=500;X-TITLE=482 Englesville Road:geo:-75.6411799,40.3236198
END:VEVENT
BEGIN:VEVENT
DTSTART;TZID=America/New_York:20260129T190000
DTEND;TZID=America/New_York:20260129T210000
DTSTAMP:20260423T110022
CREATED:20210307T150522Z
LAST-MODIFIED:20210307T150522Z
UID:10010521-1769713200-1769720400@campatcannonhill.net
SUMMARY:Biker Church Service
DESCRIPTION:
URL:https://campatcannonhill.net/event/biker-church-service-2025-10-02/
LOCATION:Camp at Cannon Hill\, 482 Englesville Road\, Boyertown\, PA\, 19512\, United States
CATEGORIES:Worship Service
GEO:40.3236198;-75.6411799
X-APPLE-STRUCTURED-LOCATION;VALUE=URI;X-ADDRESS=Camp at Cannon Hill 482 Englesville Road Boyertown PA 19512 United States;X-APPLE-RADIUS=500;X-TITLE=482 Englesville Road:geo:-75.6411799,40.3236198
END:VEVENT
BEGIN:VEVENT
DTSTART;TZID=America/New_York:20260128T183000
DTEND;TZID=America/New_York:20260128T203000
DTSTAMP:20260423T110022
CREATED:20260121T002113Z
LAST-MODIFIED:20260121T002113Z
UID:10030737-1769625000-1769632200@campatcannonhill.net
SUMMARY:J-Walkers Charity Meeting
DESCRIPTION:
URL:https://campatcannonhill.net/event/j-walkers-charity-meeting/
LOCATION:Camp at Cannon Hill\, 482 Englesville Road\, Boyertown\, PA\, 19512\, United States
CATEGORIES:Meeting
GEO:40.3236198;-75.6411799
X-APPLE-STRUCTURED-LOCATION;VALUE=URI;X-ADDRESS=Camp at Cannon Hill 482 Englesville Road Boyertown PA 19512 United States;X-APPLE-RADIUS=500;X-TITLE=482 Englesville Road:geo:-75.6411799,40.3236198
END:VEVENT
BEGIN:VEVENT
DTSTART;TZID=America/New_York:20260122T190000
DTEND;TZID=America/New_York:20260122T210000
DTSTAMP:20260423T110022
CREATED:20210307T150522Z
LAST-MODIFIED:20210307T150522Z
UID:10005583-1769108400-1769115600@campatcannonhill.net
SUMMARY:Biker Church Service
DESCRIPTION:
URL:https://campatcannonhill.net/event/biker-church-service-2025-03-27/
LOCATION:Camp at Cannon Hill\, 482 Englesville Road\, Boyertown\, PA\, 19512\, United States
CATEGORIES:Worship Service
GEO:40.3236198;-75.6411799
X-APPLE-STRUCTURED-LOCATION;VALUE=URI;X-ADDRESS=Camp at Cannon Hill 482 Englesville Road Boyertown PA 19512 United States;X-APPLE-RADIUS=500;X-TITLE=482 Englesville Road:geo:-75.6411799,40.3236198
END:VEVENT
BEGIN:VEVENT
DTSTART;TZID=America/New_York:20260122T190000
DTEND;TZID=America/New_York:20260122T210000
DTSTAMP:20260423T110022
CREATED:20210307T150522Z
LAST-MODIFIED:20210307T150522Z
UID:10007453-1769108400-1769115600@campatcannonhill.net
SUMMARY:Biker Church Service
DESCRIPTION:
URL:https://campatcannonhill.net/event/biker-church-service-2025-06-12/
LOCATION:Camp at Cannon Hill\, 482 Englesville Road\, Boyertown\, PA\, 19512\, United States
CATEGORIES:Worship Service
GEO:40.3236198;-75.6411799
X-APPLE-STRUCTURED-LOCATION;VALUE=URI;X-ADDRESS=Camp at Cannon Hill 482 Englesville Road Boyertown PA 19512 United States;X-APPLE-RADIUS=500;X-TITLE=482 Englesville Road:geo:-75.6411799,40.3236198
END:VEVENT
BEGIN:VEVENT
DTSTART;TZID=America/New_York:20260122T190000
DTEND;TZID=America/New_York:20260122T210000
DTSTAMP:20260423T110022
CREATED:20210307T150522Z
LAST-MODIFIED:20210307T150522Z
UID:10008580-1769108400-1769115600@campatcannonhill.net
SUMMARY:Biker Church Service
DESCRIPTION:
URL:https://campatcannonhill.net/event/biker-church-service-2025-07-31/
LOCATION:Camp at Cannon Hill\, 482 Englesville Road\, Boyertown\, PA\, 19512\, United States
CATEGORIES:Worship Service
GEO:40.3236198;-75.6411799
X-APPLE-STRUCTURED-LOCATION;VALUE=URI;X-ADDRESS=Camp at Cannon Hill 482 Englesville Road Boyertown PA 19512 United States;X-APPLE-RADIUS=500;X-TITLE=482 Englesville Road:geo:-75.6411799,40.3236198
END:VEVENT
BEGIN:VEVENT
DTSTART;TZID=America/New_York:20260122T190000
DTEND;TZID=America/New_York:20260122T210000
DTSTAMP:20260423T110022
CREATED:20210307T150522Z
LAST-MODIFIED:20210307T150522Z
UID:10010832-1769108400-1769115600@campatcannonhill.net
SUMMARY:Biker Church Service
DESCRIPTION:
URL:https://campatcannonhill.net/event/biker-church-service-2025-10-16/
LOCATION:Camp at Cannon Hill\, 482 Englesville Road\, Boyertown\, PA\, 19512\, United States
CATEGORIES:Worship Service
GEO:40.3236198;-75.6411799
X-APPLE-STRUCTURED-LOCATION;VALUE=URI;X-ADDRESS=Camp at Cannon Hill 482 Englesville Road Boyertown PA 19512 United States;X-APPLE-RADIUS=500;X-TITLE=482 Englesville Road:geo:-75.6411799,40.3236198
END:VEVENT
BEGIN:VEVENT
DTSTART;TZID=America/New_York:20260122T190000
DTEND;TZID=America/New_York:20260122T210000
DTSTAMP:20260423T110022
CREATED:20210307T150522Z
LAST-MODIFIED:20210307T150522Z
UID:10012657-1769108400-1769115600@campatcannonhill.net
SUMMARY:Biker Church Service
DESCRIPTION:
URL:https://campatcannonhill.net/event/biker-church-service-2026-01-01/
LOCATION:Camp at Cannon Hill\, 482 Englesville Road\, Boyertown\, PA\, 19512\, United States
CATEGORIES:Worship Service
GEO:40.3236198;-75.6411799
X-APPLE-STRUCTURED-LOCATION;VALUE=URI;X-ADDRESS=Camp at Cannon Hill 482 Englesville Road Boyertown PA 19512 United States;X-APPLE-RADIUS=500;X-TITLE=482 Englesville Road:geo:-75.6411799,40.3236198
END:VEVENT
BEGIN:VEVENT
DTSTART;TZID=America/New_York:20260122T190000
DTEND;TZID=America/New_York:20260122T210000
DTSTAMP:20260423T110022
CREATED:20210307T150522Z
LAST-MODIFIED:20210307T150522Z
UID:10005052-1769108400-1769115600@campatcannonhill.net
SUMMARY:Biker Church Service
DESCRIPTION:
URL:https://campatcannonhill.net/event/biker-church-service-2025-03-06/
LOCATION:Camp at Cannon Hill\, 482 Englesville Road\, Boyertown\, PA\, 19512\, United States
CATEGORIES:Worship Service
GEO:40.3236198;-75.6411799
X-APPLE-STRUCTURED-LOCATION;VALUE=URI;X-ADDRESS=Camp at Cannon Hill 482 Englesville Road Boyertown PA 19512 United States;X-APPLE-RADIUS=500;X-TITLE=482 Englesville Road:geo:-75.6411799,40.3236198
END:VEVENT
BEGIN:VEVENT
DTSTART;TZID=America/New_York:20260122T190000
DTEND;TZID=America/New_York:20260122T210000
DTSTAMP:20260423T110022
CREATED:20210307T150522Z
LAST-MODIFIED:20210307T150522Z
UID:10006277-1769108400-1769115600@campatcannonhill.net
SUMMARY:Biker Church Service
DESCRIPTION:
URL:https://campatcannonhill.net/event/biker-church-service-2025-04-24/
LOCATION:Camp at Cannon Hill\, 482 Englesville Road\, Boyertown\, PA\, 19512\, United States
CATEGORIES:Worship Service
GEO:40.3236198;-75.6411799
X-APPLE-STRUCTURED-LOCATION;VALUE=URI;X-ADDRESS=Camp at Cannon Hill 482 Englesville Road Boyertown PA 19512 United States;X-APPLE-RADIUS=500;X-TITLE=482 Englesville Road:geo:-75.6411799,40.3236198
END:VEVENT
BEGIN:VEVENT
DTSTART;TZID=America/New_York:20260122T190000
DTEND;TZID=America/New_York:20260122T210000
DTSTAMP:20260423T110022
CREATED:20210307T150522Z
LAST-MODIFIED:20210307T150522Z
UID:10008103-1769108400-1769115600@campatcannonhill.net
SUMMARY:Biker Church Service
DESCRIPTION:
URL:https://campatcannonhill.net/event/biker-church-service-2025-07-10/
LOCATION:Camp at Cannon Hill\, 482 Englesville Road\, Boyertown\, PA\, 19512\, United States
CATEGORIES:Worship Service
GEO:40.3236198;-75.6411799
X-APPLE-STRUCTURED-LOCATION;VALUE=URI;X-ADDRESS=Camp at Cannon Hill 482 Englesville Road Boyertown PA 19512 United States;X-APPLE-RADIUS=500;X-TITLE=482 Englesville Road:geo:-75.6411799,40.3236198
END:VEVENT
BEGIN:VEVENT
DTSTART;TZID=America/New_York:20260122T190000
DTEND;TZID=America/New_York:20260122T210000
DTSTAMP:20260423T110022
CREATED:20210307T150522Z
LAST-MODIFIED:20210307T150522Z
UID:10011180-1769108400-1769115600@campatcannonhill.net
SUMMARY:Biker Church Service
DESCRIPTION:
URL:https://campatcannonhill.net/event/biker-church-service-2025-10-30/
LOCATION:Camp at Cannon Hill\, 482 Englesville Road\, Boyertown\, PA\, 19512\, United States
CATEGORIES:Worship Service
GEO:40.3236198;-75.6411799
X-APPLE-STRUCTURED-LOCATION;VALUE=URI;X-ADDRESS=Camp at Cannon Hill 482 Englesville Road Boyertown PA 19512 United States;X-APPLE-RADIUS=500;X-TITLE=482 Englesville Road:geo:-75.6411799,40.3236198
END:VEVENT
BEGIN:VEVENT
DTSTART;TZID=America/New_York:20260122T190000
DTEND;TZID=America/New_York:20260122T210000
DTSTAMP:20260423T110022
CREATED:20210307T150522Z
LAST-MODIFIED:20210307T150522Z
UID:10012969-1769108400-1769115600@campatcannonhill.net
SUMMARY:Biker Church Service
DESCRIPTION:
URL:https://campatcannonhill.net/event/biker-church-service-2026-01-15/
LOCATION:Camp at Cannon Hill\, 482 Englesville Road\, Boyertown\, PA\, 19512\, United States
CATEGORIES:Worship Service
GEO:40.3236198;-75.6411799
X-APPLE-STRUCTURED-LOCATION;VALUE=URI;X-ADDRESS=Camp at Cannon Hill 482 Englesville Road Boyertown PA 19512 United States;X-APPLE-RADIUS=500;X-TITLE=482 Englesville Road:geo:-75.6411799,40.3236198
END:VEVENT
BEGIN:VEVENT
DTSTART;TZID=America/New_York:20260122T190000
DTEND;TZID=America/New_York:20260122T210000
DTSTAMP:20260423T110022
CREATED:20210307T150522Z
LAST-MODIFIED:20210307T150522Z
UID:10005407-1769108400-1769115600@campatcannonhill.net
SUMMARY:Biker Church Service
DESCRIPTION:
URL:https://campatcannonhill.net/event/biker-church-service-2025-03-20/
LOCATION:Camp at Cannon Hill\, 482 Englesville Road\, Boyertown\, PA\, 19512\, United States
CATEGORIES:Worship Service
GEO:40.3236198;-75.6411799
X-APPLE-STRUCTURED-LOCATION;VALUE=URI;X-ADDRESS=Camp at Cannon Hill 482 Englesville Road Boyertown PA 19512 United States;X-APPLE-RADIUS=500;X-TITLE=482 Englesville Road:geo:-75.6411799,40.3236198
END:VEVENT
BEGIN:VEVENT
DTSTART;TZID=America/New_York:20260122T190000
DTEND;TZID=America/New_York:20260122T210000
DTSTAMP:20260423T110022
CREATED:20210307T150522Z
LAST-MODIFIED:20210307T150522Z
UID:10007288-1769108400-1769115600@campatcannonhill.net
SUMMARY:Biker Church Service
DESCRIPTION:
URL:https://campatcannonhill.net/event/biker-church-service-2025-06-05/
LOCATION:Camp at Cannon Hill\, 482 Englesville Road\, Boyertown\, PA\, 19512\, United States
CATEGORIES:Worship Service
GEO:40.3236198;-75.6411799
X-APPLE-STRUCTURED-LOCATION;VALUE=URI;X-ADDRESS=Camp at Cannon Hill 482 Englesville Road Boyertown PA 19512 United States;X-APPLE-RADIUS=500;X-TITLE=482 Englesville Road:geo:-75.6411799,40.3236198
END:VEVENT
END:VCALENDAR