BEGIN:VCALENDAR
VERSION:2.0
PRODID:-//Camp at Cannon Hill - ECPv6.15.20//NONSGML v1.0//EN
CALSCALE:GREGORIAN
METHOD:PUBLISH
X-ORIGINAL-URL:https://campatcannonhill.net
X-WR-CALDESC:Events for Camp at Cannon Hill
REFRESH-INTERVAL;VALUE=DURATION:PT1H
X-Robots-Tag:noindex
X-PUBLISHED-TTL:PT1H
BEGIN:VTIMEZONE
TZID:America/New_York
BEGIN:DAYLIGHT
TZOFFSETFROM:-0500
TZOFFSETTO:-0400
TZNAME:EDT
DTSTART:20250309T070000
END:DAYLIGHT
BEGIN:STANDARD
TZOFFSETFROM:-0400
TZOFFSETTO:-0500
TZNAME:EST
DTSTART:20251102T060000
END:STANDARD
BEGIN:DAYLIGHT
TZOFFSETFROM:-0500
TZOFFSETTO:-0400
TZNAME:EDT
DTSTART:20260308T070000
END:DAYLIGHT
BEGIN:STANDARD
TZOFFSETFROM:-0400
TZOFFSETTO:-0500
TZNAME:EST
DTSTART:20261101T060000
END:STANDARD
BEGIN:DAYLIGHT
TZOFFSETFROM:-0500
TZOFFSETTO:-0400
TZNAME:EDT
DTSTART:20270314T070000
END:DAYLIGHT
BEGIN:STANDARD
TZOFFSETFROM:-0400
TZOFFSETTO:-0500
TZNAME:EST
DTSTART:20271107T060000
END:STANDARD
END:VTIMEZONE
BEGIN:VEVENT
DTSTART;TZID=America/New_York:20260212T190000
DTEND;TZID=America/New_York:20260212T210000
DTSTAMP:20260422T164602
CREATED:20210307T150522Z
LAST-MODIFIED:20210307T150522Z
UID:10008425-1770922800-1770930000@campatcannonhill.net
SUMMARY:Biker Church Service
DESCRIPTION:
URL:https://campatcannonhill.net/event/biker-church-service-2025-07-24/
LOCATION:Camp at Cannon Hill\, 482 Englesville Road\, Boyertown\, PA\, 19512\, United States
CATEGORIES:Worship Service
GEO:40.3236198;-75.6411799
X-APPLE-STRUCTURED-LOCATION;VALUE=URI;X-ADDRESS=Camp at Cannon Hill 482 Englesville Road Boyertown PA 19512 United States;X-APPLE-RADIUS=500;X-TITLE=482 Englesville Road:geo:-75.6411799,40.3236198
END:VEVENT
BEGIN:VEVENT
DTSTART;TZID=America/New_York:20260212T190000
DTEND;TZID=America/New_York:20260212T210000
DTSTAMP:20260422T164602
CREATED:20210307T150522Z
LAST-MODIFIED:20210307T150522Z
UID:10010174-1770922800-1770930000@campatcannonhill.net
SUMMARY:Biker Church Service
DESCRIPTION:
URL:https://campatcannonhill.net/event/biker-church-service-2025-09-18/
LOCATION:Camp at Cannon Hill\, 482 Englesville Road\, Boyertown\, PA\, 19512\, United States
CATEGORIES:Worship Service
GEO:40.3236198;-75.6411799
X-APPLE-STRUCTURED-LOCATION;VALUE=URI;X-ADDRESS=Camp at Cannon Hill 482 Englesville Road Boyertown PA 19512 United States;X-APPLE-RADIUS=500;X-TITLE=482 Englesville Road:geo:-75.6411799,40.3236198
END:VEVENT
BEGIN:VEVENT
DTSTART;TZID=America/New_York:20260212T190000
DTEND;TZID=America/New_York:20260212T210000
DTSTAMP:20260422T164602
CREATED:20210307T150522Z
LAST-MODIFIED:20210307T150522Z
UID:10011495-1770922800-1770930000@campatcannonhill.net
SUMMARY:Biker Church Service
DESCRIPTION:
URL:https://campatcannonhill.net/event/biker-church-service-2025-11-13/
LOCATION:Camp at Cannon Hill\, 482 Englesville Road\, Boyertown\, PA\, 19512\, United States
CATEGORIES:Worship Service
GEO:40.3236198;-75.6411799
X-APPLE-STRUCTURED-LOCATION;VALUE=URI;X-ADDRESS=Camp at Cannon Hill 482 Englesville Road Boyertown PA 19512 United States;X-APPLE-RADIUS=500;X-TITLE=482 Englesville Road:geo:-75.6411799,40.3236198
END:VEVENT
BEGIN:VEVENT
DTSTART;TZID=America/New_York:20260212T190000
DTEND;TZID=America/New_York:20260212T210000
DTSTAMP:20260422T164602
CREATED:20210307T150522Z
LAST-MODIFIED:20210307T150522Z
UID:10012816-1770922800-1770930000@campatcannonhill.net
SUMMARY:Biker Church Service
DESCRIPTION:
URL:https://campatcannonhill.net/event/biker-church-service-2026-01-08/
LOCATION:Camp at Cannon Hill\, 482 Englesville Road\, Boyertown\, PA\, 19512\, United States
CATEGORIES:Worship Service
GEO:40.3236198;-75.6411799
X-APPLE-STRUCTURED-LOCATION;VALUE=URI;X-ADDRESS=Camp at Cannon Hill 482 Englesville Road Boyertown PA 19512 United States;X-APPLE-RADIUS=500;X-TITLE=482 Englesville Road:geo:-75.6411799,40.3236198
END:VEVENT
BEGIN:VEVENT
DTSTART;TZID=America/New_York:20260212T190000
DTEND;TZID=America/New_York:20260212T210000
DTSTAMP:20260422T164602
CREATED:20210307T150522Z
LAST-MODIFIED:20210307T150522Z
UID:10005233-1770922800-1770930000@campatcannonhill.net
SUMMARY:Biker Church Service
DESCRIPTION:
URL:https://campatcannonhill.net/event/biker-church-service-2025-03-13/
LOCATION:Camp at Cannon Hill\, 482 Englesville Road\, Boyertown\, PA\, 19512\, United States
CATEGORIES:Worship Service
GEO:40.3236198;-75.6411799
X-APPLE-STRUCTURED-LOCATION;VALUE=URI;X-ADDRESS=Camp at Cannon Hill 482 Englesville Road Boyertown PA 19512 United States;X-APPLE-RADIUS=500;X-TITLE=482 Englesville Road:geo:-75.6411799,40.3236198
END:VEVENT
BEGIN:VEVENT
DTSTART;TZID=America/New_York:20260212T190000
DTEND;TZID=America/New_York:20260212T210000
DTSTAMP:20260422T164602
CREATED:20210307T150522Z
LAST-MODIFIED:20210307T150522Z
UID:10006621-1770922800-1770930000@campatcannonhill.net
SUMMARY:Biker Church Service
DESCRIPTION:
URL:https://campatcannonhill.net/event/biker-church-service-2025-05-08/
LOCATION:Camp at Cannon Hill\, 482 Englesville Road\, Boyertown\, PA\, 19512\, United States
CATEGORIES:Worship Service
GEO:40.3236198;-75.6411799
X-APPLE-STRUCTURED-LOCATION;VALUE=URI;X-ADDRESS=Camp at Cannon Hill 482 Englesville Road Boyertown PA 19512 United States;X-APPLE-RADIUS=500;X-TITLE=482 Englesville Road:geo:-75.6411799,40.3236198
END:VEVENT
BEGIN:VEVENT
DTSTART;TZID=America/New_York:20260212T190000
DTEND;TZID=America/New_York:20260212T210000
DTSTAMP:20260422T164602
CREATED:20210307T150522Z
LAST-MODIFIED:20210307T150522Z
UID:10007945-1770922800-1770930000@campatcannonhill.net
SUMMARY:Biker Church Service
DESCRIPTION:
URL:https://campatcannonhill.net/event/biker-church-service-2025-07-03/
LOCATION:Camp at Cannon Hill\, 482 Englesville Road\, Boyertown\, PA\, 19512\, United States
CATEGORIES:Worship Service
GEO:40.3236198;-75.6411799
X-APPLE-STRUCTURED-LOCATION;VALUE=URI;X-ADDRESS=Camp at Cannon Hill 482 Englesville Road Boyertown PA 19512 United States;X-APPLE-RADIUS=500;X-TITLE=482 Englesville Road:geo:-75.6411799,40.3236198
END:VEVENT
BEGIN:VEVENT
DTSTART;TZID=America/New_York:20260212T190000
DTEND;TZID=America/New_York:20260212T210000
DTSTAMP:20260422T164602
CREATED:20210307T150522Z
LAST-MODIFIED:20210307T150522Z
UID:10009706-1770922800-1770930000@campatcannonhill.net
SUMMARY:Biker Church Service
DESCRIPTION:
URL:https://campatcannonhill.net/event/biker-church-service-2025-08-28/
LOCATION:Camp at Cannon Hill\, 482 Englesville Road\, Boyertown\, PA\, 19512\, United States
CATEGORIES:Worship Service
GEO:40.3236198;-75.6411799
X-APPLE-STRUCTURED-LOCATION;VALUE=URI;X-ADDRESS=Camp at Cannon Hill 482 Englesville Road Boyertown PA 19512 United States;X-APPLE-RADIUS=500;X-TITLE=482 Englesville Road:geo:-75.6411799,40.3236198
END:VEVENT
BEGIN:VEVENT
DTSTART;TZID=America/New_York:20260212T190000
DTEND;TZID=America/New_York:20260212T210000
DTSTAMP:20260422T164602
CREATED:20210307T150522Z
LAST-MODIFIED:20210307T150522Z
UID:10011027-1770922800-1770930000@campatcannonhill.net
SUMMARY:Biker Church Service
DESCRIPTION:
URL:https://campatcannonhill.net/event/biker-church-service-2025-10-23/
LOCATION:Camp at Cannon Hill\, 482 Englesville Road\, Boyertown\, PA\, 19512\, United States
CATEGORIES:Worship Service
GEO:40.3236198;-75.6411799
X-APPLE-STRUCTURED-LOCATION;VALUE=URI;X-ADDRESS=Camp at Cannon Hill 482 Englesville Road Boyertown PA 19512 United States;X-APPLE-RADIUS=500;X-TITLE=482 Englesville Road:geo:-75.6411799,40.3236198
END:VEVENT
BEGIN:VEVENT
DTSTART;TZID=America/New_York:20260212T190000
DTEND;TZID=America/New_York:20260212T210000
DTSTAMP:20260422T164602
CREATED:20210307T150522Z
LAST-MODIFIED:20210307T150522Z
UID:10012311-1770922800-1770930000@campatcannonhill.net
SUMMARY:Biker Church Service
DESCRIPTION:
URL:https://campatcannonhill.net/event/biker-church-service-2025-12-18/
LOCATION:Camp at Cannon Hill\, 482 Englesville Road\, Boyertown\, PA\, 19512\, United States
CATEGORIES:Worship Service
GEO:40.3236198;-75.6411799
X-APPLE-STRUCTURED-LOCATION;VALUE=URI;X-ADDRESS=Camp at Cannon Hill 482 Englesville Road Boyertown PA 19512 United States;X-APPLE-RADIUS=500;X-TITLE=482 Englesville Road:geo:-75.6411799,40.3236198
END:VEVENT
BEGIN:VEVENT
DTSTART;TZID=America/New_York:20260212T190000
DTEND;TZID=America/New_York:20260212T210000
DTSTAMP:20260422T164602
CREATED:20210307T150522Z
LAST-MODIFIED:20210307T150522Z
UID:10013476-1770922800-1770930000@campatcannonhill.net
SUMMARY:Biker Church Service
DESCRIPTION:
URL:https://campatcannonhill.net/event/biker-church-service-2026-02-05/
LOCATION:Camp at Cannon Hill\, 482 Englesville Road\, Boyertown\, PA\, 19512\, United States
CATEGORIES:Worship Service
GEO:40.3236198;-75.6411799
X-APPLE-STRUCTURED-LOCATION;VALUE=URI;X-ADDRESS=Camp at Cannon Hill 482 Englesville Road Boyertown PA 19512 United States;X-APPLE-RADIUS=500;X-TITLE=482 Englesville Road:geo:-75.6411799,40.3236198
END:VEVENT
BEGIN:VEVENT
DTSTART;TZID=America/New_York:20260212T190000
DTEND;TZID=America/New_York:20260212T210000
DTSTAMP:20260422T164602
CREATED:20210307T150522Z
LAST-MODIFIED:20210307T150522Z
UID:10004696-1770922800-1770930000@campatcannonhill.net
SUMMARY:Biker Church Service
DESCRIPTION:
URL:https://campatcannonhill.net/event/biker-church-service-2025-02-20/
LOCATION:Camp at Cannon Hill\, 482 Englesville Road\, Boyertown\, PA\, 19512\, United States
CATEGORIES:Worship Service
GEO:40.3236198;-75.6411799
X-APPLE-STRUCTURED-LOCATION;VALUE=URI;X-ADDRESS=Camp at Cannon Hill 482 Englesville Road Boyertown PA 19512 United States;X-APPLE-RADIUS=500;X-TITLE=482 Englesville Road:geo:-75.6411799,40.3236198
END:VEVENT
BEGIN:VEVENT
DTSTART;TZID=America/New_York:20260212T190000
DTEND;TZID=America/New_York:20260212T210000
DTSTAMP:20260422T164602
CREATED:20210307T150522Z
LAST-MODIFIED:20210307T150522Z
UID:10006108-1770922800-1770930000@campatcannonhill.net
SUMMARY:Biker Church Service
DESCRIPTION:
URL:https://campatcannonhill.net/event/biker-church-service-2025-04-17/
LOCATION:Camp at Cannon Hill\, 482 Englesville Road\, Boyertown\, PA\, 19512\, United States
CATEGORIES:Worship Service
GEO:40.3236198;-75.6411799
X-APPLE-STRUCTURED-LOCATION;VALUE=URI;X-ADDRESS=Camp at Cannon Hill 482 Englesville Road Boyertown PA 19512 United States;X-APPLE-RADIUS=500;X-TITLE=482 Englesville Road:geo:-75.6411799,40.3236198
END:VEVENT
BEGIN:VEVENT
DTSTART;TZID=America/New_York:20260212T190000
DTEND;TZID=America/New_York:20260212T210000
DTSTAMP:20260422T164602
CREATED:20210307T150522Z
LAST-MODIFIED:20210307T150522Z
UID:10007456-1770922800-1770930000@campatcannonhill.net
SUMMARY:Biker Church Service
DESCRIPTION:
URL:https://campatcannonhill.net/event/biker-church-service-2025-06-12/
LOCATION:Camp at Cannon Hill\, 482 Englesville Road\, Boyertown\, PA\, 19512\, United States
CATEGORIES:Worship Service
GEO:40.3236198;-75.6411799
X-APPLE-STRUCTURED-LOCATION;VALUE=URI;X-ADDRESS=Camp at Cannon Hill 482 Englesville Road Boyertown PA 19512 United States;X-APPLE-RADIUS=500;X-TITLE=482 Englesville Road:geo:-75.6411799,40.3236198
END:VEVENT
BEGIN:VEVENT
DTSTART;TZID=America/New_York:20260212T190000
DTEND;TZID=America/New_York:20260212T210000
DTSTAMP:20260422T164602
CREATED:20210307T150522Z
LAST-MODIFIED:20210307T150522Z
UID:10009202-1770922800-1770930000@campatcannonhill.net
SUMMARY:Biker Church Service
DESCRIPTION:
URL:https://campatcannonhill.net/event/biker-church-service-2025-08-07/
LOCATION:Camp at Cannon Hill\, 482 Englesville Road\, Boyertown\, PA\, 19512\, United States
CATEGORIES:Worship Service
GEO:40.3236198;-75.6411799
X-APPLE-STRUCTURED-LOCATION;VALUE=URI;X-ADDRESS=Camp at Cannon Hill 482 Englesville Road Boyertown PA 19512 United States;X-APPLE-RADIUS=500;X-TITLE=482 Englesville Road:geo:-75.6411799,40.3236198
END:VEVENT
BEGIN:VEVENT
DTSTART;TZID=America/New_York:20260212T190000
DTEND;TZID=America/New_York:20260212T210000
DTSTAMP:20260422T164602
CREATED:20210307T150522Z
LAST-MODIFIED:20210307T150522Z
UID:10010523-1770922800-1770930000@campatcannonhill.net
SUMMARY:Biker Church Service
DESCRIPTION:
URL:https://campatcannonhill.net/event/biker-church-service-2025-10-02/
LOCATION:Camp at Cannon Hill\, 482 Englesville Road\, Boyertown\, PA\, 19512\, United States
CATEGORIES:Worship Service
GEO:40.3236198;-75.6411799
X-APPLE-STRUCTURED-LOCATION;VALUE=URI;X-ADDRESS=Camp at Cannon Hill 482 Englesville Road Boyertown PA 19512 United States;X-APPLE-RADIUS=500;X-TITLE=482 Englesville Road:geo:-75.6411799,40.3236198
END:VEVENT
BEGIN:VEVENT
DTSTART;TZID=America/New_York:20260212T190000
DTEND;TZID=America/New_York:20260212T210000
DTSTAMP:20260422T164602
CREATED:20210307T150522Z
LAST-MODIFIED:20210307T150522Z
UID:10011843-1770922800-1770930000@campatcannonhill.net
SUMMARY:Biker Church Service
DESCRIPTION:
URL:https://campatcannonhill.net/event/biker-church-service-2025-11-27/
LOCATION:Camp at Cannon Hill\, 482 Englesville Road\, Boyertown\, PA\, 19512\, United States
CATEGORIES:Worship Service
GEO:40.3236198;-75.6411799
X-APPLE-STRUCTURED-LOCATION;VALUE=URI;X-ADDRESS=Camp at Cannon Hill 482 Englesville Road Boyertown PA 19512 United States;X-APPLE-RADIUS=500;X-TITLE=482 Englesville Road:geo:-75.6411799,40.3236198
END:VEVENT
BEGIN:VEVENT
DTSTART;TZID=America/New_York:20260212T190000
DTEND;TZID=America/New_York:20260212T210000
DTSTAMP:20260422T164602
CREATED:20210307T150522Z
LAST-MODIFIED:20210307T150522Z
UID:10013164-1770922800-1770930000@campatcannonhill.net
SUMMARY:Biker Church Service
DESCRIPTION:
URL:https://campatcannonhill.net/event/biker-church-service-2026-01-22/
LOCATION:Camp at Cannon Hill\, 482 Englesville Road\, Boyertown\, PA\, 19512\, United States
CATEGORIES:Worship Service
GEO:40.3236198;-75.6411799
X-APPLE-STRUCTURED-LOCATION;VALUE=URI;X-ADDRESS=Camp at Cannon Hill 482 Englesville Road Boyertown PA 19512 United States;X-APPLE-RADIUS=500;X-TITLE=482 Englesville Road:geo:-75.6411799,40.3236198
END:VEVENT
BEGIN:VEVENT
DTSTART;TZID=America/New_York:20260205T190000
DTEND;TZID=America/New_York:20260205T210000
DTSTAMP:20260422T164602
CREATED:20210307T150522Z
LAST-MODIFIED:20210307T150522Z
UID:10005054-1770318000-1770325200@campatcannonhill.net
SUMMARY:Biker Church Service
DESCRIPTION:
URL:https://campatcannonhill.net/event/biker-church-service-2025-03-06/
LOCATION:Camp at Cannon Hill\, 482 Englesville Road\, Boyertown\, PA\, 19512\, United States
CATEGORIES:Worship Service
GEO:40.3236198;-75.6411799
X-APPLE-STRUCTURED-LOCATION;VALUE=URI;X-ADDRESS=Camp at Cannon Hill 482 Englesville Road Boyertown PA 19512 United States;X-APPLE-RADIUS=500;X-TITLE=482 Englesville Road:geo:-75.6411799,40.3236198
END:VEVENT
BEGIN:VEVENT
DTSTART;TZID=America/New_York:20260205T190000
DTEND;TZID=America/New_York:20260205T210000
DTSTAMP:20260422T164602
CREATED:20210307T150522Z
LAST-MODIFIED:20210307T150522Z
UID:10006450-1770318000-1770325200@campatcannonhill.net
SUMMARY:Biker Church Service
DESCRIPTION:
URL:https://campatcannonhill.net/event/biker-church-service-2025-05-01/
LOCATION:Camp at Cannon Hill\, 482 Englesville Road\, Boyertown\, PA\, 19512\, United States
CATEGORIES:Worship Service
GEO:40.3236198;-75.6411799
X-APPLE-STRUCTURED-LOCATION;VALUE=URI;X-ADDRESS=Camp at Cannon Hill 482 Englesville Road Boyertown PA 19512 United States;X-APPLE-RADIUS=500;X-TITLE=482 Englesville Road:geo:-75.6411799,40.3236198
END:VEVENT
BEGIN:VEVENT
DTSTART;TZID=America/New_York:20260205T190000
DTEND;TZID=America/New_York:20260205T210000
DTSTAMP:20260422T164602
CREATED:20210307T150522Z
LAST-MODIFIED:20210307T150522Z
UID:10007782-1770318000-1770325200@campatcannonhill.net
SUMMARY:Biker Church Service
DESCRIPTION:
URL:https://campatcannonhill.net/event/biker-church-service-2025-06-26/
LOCATION:Camp at Cannon Hill\, 482 Englesville Road\, Boyertown\, PA\, 19512\, United States
CATEGORIES:Worship Service
GEO:40.3236198;-75.6411799
X-APPLE-STRUCTURED-LOCATION;VALUE=URI;X-ADDRESS=Camp at Cannon Hill 482 Englesville Road Boyertown PA 19512 United States;X-APPLE-RADIUS=500;X-TITLE=482 Englesville Road:geo:-75.6411799,40.3236198
END:VEVENT
BEGIN:VEVENT
DTSTART;TZID=America/New_York:20260205T190000
DTEND;TZID=America/New_York:20260205T210000
DTSTAMP:20260422T164602
CREATED:20210307T150522Z
LAST-MODIFIED:20210307T150522Z
UID:10009549-1770318000-1770325200@campatcannonhill.net
SUMMARY:Biker Church Service
DESCRIPTION:
URL:https://campatcannonhill.net/event/biker-church-service-2025-08-21/
LOCATION:Camp at Cannon Hill\, 482 Englesville Road\, Boyertown\, PA\, 19512\, United States
CATEGORIES:Worship Service
GEO:40.3236198;-75.6411799
X-APPLE-STRUCTURED-LOCATION;VALUE=URI;X-ADDRESS=Camp at Cannon Hill 482 Englesville Road Boyertown PA 19512 United States;X-APPLE-RADIUS=500;X-TITLE=482 Englesville Road:geo:-75.6411799,40.3236198
END:VEVENT
BEGIN:VEVENT
DTSTART;TZID=America/New_York:20260205T190000
DTEND;TZID=America/New_York:20260205T210000
DTSTAMP:20260422T164602
CREATED:20210307T150522Z
LAST-MODIFIED:20210307T150522Z
UID:10010834-1770318000-1770325200@campatcannonhill.net
SUMMARY:Biker Church Service
DESCRIPTION:
URL:https://campatcannonhill.net/event/biker-church-service-2025-10-16/
LOCATION:Camp at Cannon Hill\, 482 Englesville Road\, Boyertown\, PA\, 19512\, United States
CATEGORIES:Worship Service
GEO:40.3236198;-75.6411799
X-APPLE-STRUCTURED-LOCATION;VALUE=URI;X-ADDRESS=Camp at Cannon Hill 482 Englesville Road Boyertown PA 19512 United States;X-APPLE-RADIUS=500;X-TITLE=482 Englesville Road:geo:-75.6411799,40.3236198
END:VEVENT
BEGIN:VEVENT
DTSTART;TZID=America/New_York:20260205T190000
DTEND;TZID=America/New_York:20260205T210000
DTSTAMP:20260422T164602
CREATED:20210307T150522Z
LAST-MODIFIED:20210307T150522Z
UID:10012154-1770318000-1770325200@campatcannonhill.net
SUMMARY:Biker Church Service
DESCRIPTION:
URL:https://campatcannonhill.net/event/biker-church-service-2025-12-11/
LOCATION:Camp at Cannon Hill\, 482 Englesville Road\, Boyertown\, PA\, 19512\, United States
CATEGORIES:Worship Service
GEO:40.3236198;-75.6411799
X-APPLE-STRUCTURED-LOCATION;VALUE=URI;X-ADDRESS=Camp at Cannon Hill 482 Englesville Road Boyertown PA 19512 United States;X-APPLE-RADIUS=500;X-TITLE=482 Englesville Road:geo:-75.6411799,40.3236198
END:VEVENT
BEGIN:VEVENT
DTSTART;TZID=America/New_York:20260205T190000
DTEND;TZID=America/New_York:20260205T210000
DTSTAMP:20260422T164602
CREATED:20210307T150522Z
LAST-MODIFIED:20210307T150522Z
UID:10004514-1770318000-1770325200@campatcannonhill.net
SUMMARY:Biker Church Service
DESCRIPTION:
URL:https://campatcannonhill.net/event/biker-church-service-2025-02-13/
LOCATION:Camp at Cannon Hill\, 482 Englesville Road\, Boyertown\, PA\, 19512\, United States
CATEGORIES:Worship Service
GEO:40.3236198;-75.6411799
X-APPLE-STRUCTURED-LOCATION;VALUE=URI;X-ADDRESS=Camp at Cannon Hill 482 Englesville Road Boyertown PA 19512 United States;X-APPLE-RADIUS=500;X-TITLE=482 Englesville Road:geo:-75.6411799,40.3236198
END:VEVENT
BEGIN:VEVENT
DTSTART;TZID=America/New_York:20260205T190000
DTEND;TZID=America/New_York:20260205T210000
DTSTAMP:20260422T164602
CREATED:20210307T150522Z
LAST-MODIFIED:20210307T150522Z
UID:10005934-1770318000-1770325200@campatcannonhill.net
SUMMARY:Biker Church Service
DESCRIPTION:
URL:https://campatcannonhill.net/event/biker-church-service-2025-04-10/
LOCATION:Camp at Cannon Hill\, 482 Englesville Road\, Boyertown\, PA\, 19512\, United States
CATEGORIES:Worship Service
GEO:40.3236198;-75.6411799
X-APPLE-STRUCTURED-LOCATION;VALUE=URI;X-ADDRESS=Camp at Cannon Hill 482 Englesville Road Boyertown PA 19512 United States;X-APPLE-RADIUS=500;X-TITLE=482 Englesville Road:geo:-75.6411799,40.3236198
END:VEVENT
BEGIN:VEVENT
DTSTART;TZID=America/New_York:20260205T190000
DTEND;TZID=America/New_York:20260205T210000
DTSTAMP:20260422T164602
CREATED:20210307T150522Z
LAST-MODIFIED:20210307T150522Z
UID:10007290-1770318000-1770325200@campatcannonhill.net
SUMMARY:Biker Church Service
DESCRIPTION:
URL:https://campatcannonhill.net/event/biker-church-service-2025-06-05/
LOCATION:Camp at Cannon Hill\, 482 Englesville Road\, Boyertown\, PA\, 19512\, United States
CATEGORIES:Worship Service
GEO:40.3236198;-75.6411799
X-APPLE-STRUCTURED-LOCATION;VALUE=URI;X-ADDRESS=Camp at Cannon Hill 482 Englesville Road Boyertown PA 19512 United States;X-APPLE-RADIUS=500;X-TITLE=482 Englesville Road:geo:-75.6411799,40.3236198
END:VEVENT
BEGIN:VEVENT
DTSTART;TZID=America/New_York:20260205T190000
DTEND;TZID=America/New_York:20260205T210000
DTSTAMP:20260422T164602
CREATED:20210307T150522Z
LAST-MODIFIED:20210307T150522Z
UID:10008582-1770318000-1770325200@campatcannonhill.net
SUMMARY:Biker Church Service
DESCRIPTION:
URL:https://campatcannonhill.net/event/biker-church-service-2025-07-31/
LOCATION:Camp at Cannon Hill\, 482 Englesville Road\, Boyertown\, PA\, 19512\, United States
CATEGORIES:Worship Service
GEO:40.3236198;-75.6411799
X-APPLE-STRUCTURED-LOCATION;VALUE=URI;X-ADDRESS=Camp at Cannon Hill 482 Englesville Road Boyertown PA 19512 United States;X-APPLE-RADIUS=500;X-TITLE=482 Englesville Road:geo:-75.6411799,40.3236198
END:VEVENT
BEGIN:VEVENT
DTSTART;TZID=America/New_York:20260205T190000
DTEND;TZID=America/New_York:20260205T210000
DTSTAMP:20260422T164602
CREATED:20210307T150522Z
LAST-MODIFIED:20210307T150522Z
UID:10010366-1770318000-1770325200@campatcannonhill.net
SUMMARY:Biker Church Service
DESCRIPTION:
URL:https://campatcannonhill.net/event/biker-church-service-2025-09-25/
LOCATION:Camp at Cannon Hill\, 482 Englesville Road\, Boyertown\, PA\, 19512\, United States
CATEGORIES:Worship Service
GEO:40.3236198;-75.6411799
X-APPLE-STRUCTURED-LOCATION;VALUE=URI;X-ADDRESS=Camp at Cannon Hill 482 Englesville Road Boyertown PA 19512 United States;X-APPLE-RADIUS=500;X-TITLE=482 Englesville Road:geo:-75.6411799,40.3236198
END:VEVENT
BEGIN:VEVENT
DTSTART;TZID=America/New_York:20260205T190000
DTEND;TZID=America/New_York:20260205T210000
DTSTAMP:20260422T164602
CREATED:20210307T150522Z
LAST-MODIFIED:20210307T150522Z
UID:10011686-1770318000-1770325200@campatcannonhill.net
SUMMARY:Biker Church Service
DESCRIPTION:
URL:https://campatcannonhill.net/event/biker-church-service-2025-11-20/
LOCATION:Camp at Cannon Hill\, 482 Englesville Road\, Boyertown\, PA\, 19512\, United States
CATEGORIES:Worship Service
GEO:40.3236198;-75.6411799
X-APPLE-STRUCTURED-LOCATION;VALUE=URI;X-ADDRESS=Camp at Cannon Hill 482 Englesville Road Boyertown PA 19512 United States;X-APPLE-RADIUS=500;X-TITLE=482 Englesville Road:geo:-75.6411799,40.3236198
END:VEVENT
END:VCALENDAR